BEGIN:VCALENDAR
VERSION:2.0
PRODID:-//project/author//NONSGML v1.0//EN
CALSCALE:GREGORIAN
BEGIN:VEVENT
UID:646bb2c783bc3dfd6640f83c9cf36dc1
LOCATION: Strand Hoek van Holland (verzamelen Clubhuis)

DESCRIPTION:Strandvissen (Winter competitie) (tijd: 09:00 - 13:00)
SUMMARY:Strandvissen (Winter competitie)
DTSTART:20260322
DTEND:
END:VEVENT
END:VCALENDAR