BEGIN:VCALENDAR
VERSION:2.0
PRODID:-//project/author//NONSGML v1.0//EN
CALSCALE:GREGORIAN
BEGIN:VEVENT
UID:2249f7e6b010b97ee572d2c5e2b0eef0
LOCATION: Clubhuis (Zandzeebar)

DESCRIPTION:Wijnproeverij of High Tea (tijd: 14:00 -)
SUMMARY:Wijnproeverij of High Tea
DTSTART:20260509
DTEND:
END:VEVENT
END:VCALENDAR