BEGIN:VCALENDAR
VERSION:2.0
PRODID:-//project/author//NONSGML v1.0//EN
CALSCALE:GREGORIAN
BEGIN:VEVENT
UID:0eaf9050f26452d37d81861f382a4d32
LOCATION: Strand Hoek van Holland (verzamelen Clubhuis)

DESCRIPTION:Bootvissen (tijd: 09:00 - 14:00)
SUMMARY:Bootvissen
DTSTART:20260314
DTEND:
END:VEVENT
END:VCALENDAR