BEGIN:VCALENDAR
VERSION:2.0
PRODID:-//project/author//NONSGML v1.0//EN
CALSCALE:GREGORIAN
BEGIN:VEVENT
UID:db6268e8c4a244118411782abcdf865c
LOCATION: Clubhuis (Zandzeebar)

DESCRIPTION:Visbakmiddag (tijd: 15:30 - )
SUMMARY:Visbakmiddag
DTSTART:20260321
DTEND:
END:VEVENT
END:VCALENDAR