BEGIN:VCALENDAR
VERSION:2.0
PRODID:-//project/author//NONSGML v1.0//EN
CALSCALE:GREGORIAN
BEGIN:VEVENT
UID:08b159c835ab460c02024df4e8fcc459
LOCATION: Clubhuis (Zandzeebar)

DESCRIPTION:Visbakmiddag (tijd: 14:30 - )
SUMMARY:Visbakmiddag
DTSTART:20260425
DTEND:
END:VEVENT
END:VCALENDAR